BEGIN:VCALENDAR
VERSION:2.0
PRODID:WVU Health
BEGIN:VEVENT
UID:27459
DTSTAMP:20260421T102800
SUMMARY:WVU Medicine AI Scribe Journey
LOCATION:Erickson Alumni Center, 1 Alumni Drive, Morgantown, WV 26506
DTSTART:20251017T100000
DTEND:20251017T103000
DESCRIPTION: For more information, visit http://hsc.wvu.edu/research-and-graduate-education/van-liere-conference/.
X-ALT-DESC;FMTTYPE=text/html:<p></p><p>For more information, visit http://hsc.wvu.edu/research-and-graduate-education/van-liere-conference/.</p>
END:VEVENT
END:VCALENDAR
