BEGIN:VCALENDAR
VERSION:2.0
PRODID:WVU Health
BEGIN:VEVENT
UID:25681
DTSTAMP:20260420T064700
SUMMARY:Concurrent Research Symposia II
LOCATION:Erickson Alumni Center, 1 Alumni Drive, Morgantown, WV 26506
DTSTART:20251017T030000
DTEND:20251017T043000
DESCRIPTION: For more information, visit http://hsc.wvu.edu/research-and-graduate-education/van-liere-conference/.
X-ALT-DESC;FMTTYPE=text/html:<p></p><p>For more information, visit http://hsc.wvu.edu/research-and-graduate-education/van-liere-conference/.</p>
END:VEVENT
END:VCALENDAR
