BEGIN:VCALENDAR
VERSION:2.0
PRODID:WVU Health
BEGIN:VEVENT
UID:25654
DTSTAMP:20260422T045000
SUMMARY:Student Organizations, Graduate, and Professional School Program Showcase
LOCATION:Health Sciences Center, 64 Medical Center Drive, Morgantown, WV 26506
DTSTART:20251018T013000
DTEND:20251018T021500
DESCRIPTION: For more information, visit http://hsc.wvu.edu/research-and-graduate-education/van-liere-conference/.
X-ALT-DESC;FMTTYPE=text/html:<p></p><p>For more information, visit http://hsc.wvu.edu/research-and-graduate-education/van-liere-conference/.</p>
END:VEVENT
END:VCALENDAR
